BEGIN:VCALENDAR
VERSION:2.0
PRODID:iCalendar-Evo
X-WR-TIMEZONE:US/Eastern
BEGIN:VEVENT
DTSTAMP:20260422THI3051Z
URL:https://www.boroughofnewtown.com/events/88327/
DTSTART;TZID=US/Eastern:20251206T100000
DTEND;TZID=US/Eastern:20251206T160000
SUMMARY:Holiday House Tour
DESCRIPTION:Sponsored by the Newtown Historic Association See Annual Holiday House Tour for details. 
UID:14de857d-9702-4029-a1e9-3d2c316d940120241207T150000@www.boroughofnewtown.com
END:VEVENT
END:VCALENDAR